BEGIN:VCALENDAR
VERSION:2.0
CALSCALE:GREGORIAN
METHOD:PUBLISH
BEGIN:VEVENT
SUMMARY:20 ANS FETE DE LA NATURE
DTSTART:20260520T100000Z
DTEND:20260522T183000Z
DTSTAMP:20260422T232349Z
CATEGORIES:
DESCRIPTION: Pour les  "20 ANS DE LA FETE DE LA NATURE" le Pôle Dévelo
 ppement Durable & RSE de l'Université Côte d'Azur organise durant les 20
 \, 21 et 22 mai 2026 plusieurs animations et visites botaniques sur le Dom
 aine Valrose à savoir :\n1. Mercredi 20 MAI 2026 - 02 Séances (12h00 et 
 14h00)*:\n\nVisites botaniques guidées - *Durée des séances environ 01H
 30 \;\nLa 1ère visite (12h00 - 13h30) sera animée par le Pôle Développ
 ement Durable : Découverte du Domaine sur les volets paysager\, botanique
  et environnemental.\nLa 2ème visite (14h00 - 15h30) sera animée par M. 
 Marc BOTTIN biologiste botaniste agréé par les INRAE  (à privilégier 
 pour les passionnés de botanique).\n\n2. Jeudi 21 MAI 2026 - 01 Séance d
 e 14h45 à 16h15 :\n\nPlusieurs stands animés par différents partenaires
  (Office National des Forêts\, Maison de l'Environnement\, Enseignant Che
 rcheur Polytech / LEAT\, Mission Eco Responsable\, Unica Plantes\, Associa
 tion GAIA\, Service Espaces Verts\, Université Côte d'Azur\, BDE Valrose
 \, Ville de Nice / Métropole Nice Côte d'Azur\, Etablissement Don-Bosco.
 ..) \;\nExposition du Concours Photos BIODIVERSITE \;\n\n3. Vendredi 22 MA
 I 2026 - 01 Séance de 20h30 à 00h00 :\n\nConférence : Protéger la nuit
  : lutte contre la pollution lumineuse\nAu cours de cette immersion dans l
 e monde nocturne\, vous découvrirez à la fois les incroyables adaptation
 s du vivant à l’obscurité et les effets de la pollution lumineuse sur 
 les espèces\, les écosystèmes et nos paysages de nuit.\nSeront égaleme
 nt présentées les actions mises en œuvre par la Métropole Nice Côte d
 ’Azur pour préserver l’obscurité\, encourager des usages lumineux pl
 us raisonnés et mesurer l’impact de ces démarches.\nUn temps pour comp
 rendre les enjeux écologiques de la nuit et explorer des solutions concr
 ètes permettant de concilier aménagement du territoire\, besoins humains
  et biodiversité \;\nInventaire participatif : A la découverte des papil
 lons de nuit \nDescriptif : Rejoignez-nous le temps d’une sortie noctur
 ne au sein du campus de Valrose. Vous aurez l’occasion de découvrir le 
 monde fabuleux des papillons de nuit et d’en apprendre plus sur leur div
 ersité\, modes de vie et leur rôle dans les écosystèmes ! Au programme
 \, découverte d'un dispositif lumineux pour attirer\, photographier et id
 entifier les papillons de nuit.\n\n\n4. Informations et Conditions d'accè
 s* (voir sur votre billet)  :\n\n* de bonnes conditions physiques sont re
 quises afin de pouvoir participer aux visites guidées (prévoir de bonnes
  chaussures de marche) \;\n* transports en commun recommandés (tram ligne
  01 - station "Valrose Université"\, bus lignes 11\, 16\, 37\, 630\, 72\,
  vélos ?) \;\n*les manifestations peuvent être annulées en fonction des
  conditions météorologiques \;\n*vous devez respecter la zone d'accueil 
 du public et ne pas franchir la délimitation (voir plan joint) \;\n*accè
 s du site à partir de 06 ans et plus (les mineurs doivent être obligatoi
 rement accompagnés par les représentants légaux) \;\n*accès des véhic
 ules sur le site non autorisé \;\n*accès du site interdit aux animaux \;
 \n* dans le cadre du plan Vigipirate seules les personnes inscrites sur in
 ternet pourront accéder aux évènements \;\n* le site est soumis à un c
 ontrôle d'accès (présentation du billet d'inscription obligatoire + pr
 ésentation d'une pièce d'identité) \;\n* toutes sorties du site est dé
 finitive \;\n* il est interdit d’entrer avec des éléments dangereux (b
 outeilles\, couteaux…\,) \;\n* le non-respect des consignes entrainera o
 bligatoirement l’exclusion de la manifestation \;\n
GEO:43.7168878;7.266598699999999
LOCATION:28 Avenue Valrose 06100 Nice - FR
ORGANIZER:UNIVERSITE NICE COTE D'AZUR
END:VEVENT
END:VCALENDAR
