BEGIN:VCALENDAR
VERSION:2.0
CALSCALE:GREGORIAN
METHOD:PUBLISH
BEGIN:VEVENT
SUMMARY:Atelier DECOUVERTE du Havening - STRESS & ANXIETE
DTSTART:20260505T220000Z
DTEND:20260505T233000Z
DTSTAMP:20260421T013555Z
CATEGORIES:
DESCRIPTION:Booster votre confiance en vous avant les examens!\nApprenez 
 à surmonter vos doutes et vos peurs grâce à cette technique puissante d
 e libération émotionnelle. \nEt si la confiance en soi n’était pas i
 nnée\, mais une compétence que tu peux développer dès maintenant ?\nMa
 rre de douter de toi avant un exam ou un oral ? Viens développer ta confi
 ance en toi... cet atelier est fait pour vous !\nViens apprendre et pratiq
 uer le havening (havening techniques) une technique simple pour calmer le 
 système nerveux et reprogrammer le cerveau en quelques gestes.\n \nComme
 nt çà se passe?\nUn RDV convivial d’1h30 rien que pour vous…\n\nun p
 eu de théorie... histoire de savoir de quoi on parle et comment çà fonc
 tionne ?\nune véritable séance pratique\ndu soutien - du partage - des s
 ourires et de la bonne humeur \n\nRepartez avec une fiche mémo de la tec
 hnique et un nouvel outil de développement personnel à expérimenter.\nE
 n savoir plus:\n\nreprogrammer son cerveau grace au havening\nc'est quoi l
 e havening\n\n \nRejoignez-moi :\nle Mardi 05 Mai 2026\nde 18h00 à 19
 h30\n \nautres ateliers - autres dates\n \nLocalisation : \nChez Bulles
  2 bien-être (aux abymes rue des finances - entre général bricolage et 
 le siège du credit agricole)\n voici la géolocalisation\n \nTarif : 30
 € règlement nécessaire pour valider l'inscription\n \n5 places dispon
 ibles il n'y en aura pas pour tout le monde!!!\nSeules les inscriptions RE
 GLEES sont prise en comptes\n 
GEO:16.2543946;-61.5187157
LOCATION:Rue des Finances 97142 Les Abymes - GP
ORGANIZER:Bulles 2 bien-être
END:VEVENT
END:VCALENDAR
