BEGIN:VCALENDAR
VERSION:2.0
CALSCALE:GREGORIAN
METHOD:PUBLISH
BEGIN:VEVENT
SUMMARY:Dynamisez l'animation de votre performance par le Management Visue
 l
DTSTART:20260522T070000Z
DTEND:20260522T100000Z
DTSTAMP:20260423T161418Z
CATEGORIES:
DESCRIPTION:\n	Nous vous donnons rendez-vous le vendredi 22 mai 2026 à 9
 h pour un atelier co-organisé par EliteOrga et SESA Systems sur la théma
 tique du Management Visuel ! Mickaël BOUCEY\, directeur de projets associ
 é EliteOrga et Cyrille GROULT\, directeur commercial associé SESA System
 s vous accueillent au sein de l'OrgaLab de Nantes pour une matinée riche 
 en expertise : \n\n\n		​Pourquoi le Management Visuel ?\n\n		Les indica
 teurs clés pour suivre pour analyser les activités d’un service\n\n		L
 es techniques d’animation pour les briefs\n\n		Interactions entre le Man
 agement Visuel de Performance et la boucle de l’excellence opérationnel
 le\n\n		Comment digitaliser le management visuel\n\n\nNous vous attendons 
 nombreux le vendredi 22 mai de 9h à 12h\, inscrivez-vous dès maintenant 
 pour réserver votre place ! Découvrez l'OrgaLab est un lieu concept cré
 é par EliteOrga pour remplir 3 missions : École de la Performance\, Show
 room des solutions et Laboratoire d'organisation. \n
LOCATION:3 avenue des Améthyses 44300 NANTES - FR
ORGANIZER:EliteOrga
END:VEVENT
END:VCALENDAR
