BEGIN:VCALENDAR
VERSION:2.0
CALSCALE:GREGORIAN
METHOD:PUBLISH
BEGIN:VEVENT
SUMMARY:Comédie musicale "Emilie Jolie"
DTSTART:20260425T170000Z
DTSTAMP:20260424T160750Z
CATEGORIES:
DESCRIPTION:L’EMMTD de Bons-en-Chablais vous donne rdv à un spectacle e
 xceptionnel qui ravira petits et grands : une comédie musicale inspirée 
 du célèbre conte musical Émilie Jolie de Philippe Chatel et interprét
 ée par la troupe de danseurs\, chanteurs et comédiens « Musical Show a
 nd Events ».\nDans cette histoire tendre et poétique\, Émilie\, une pe
 tite fille\, se retrouve plongée dans un univers imaginaire peuplé de pe
 rsonnages étonnants : un lapin bleu\, un hérisson grognon\, une sorcièr
 e un peu perdue ou encore un oiseau mystérieux. Au fil de ses rencontres\
 , Émilie découvre un monde rempli de musique\, de poésie et d’émotio
 ns\, où l’on parle d’amitié\, de courage et de la magie de l’enfan
 ce.\nPortée par des chansons devenues cultes et une mise en scène vivant
 e et colorée\, cette comédie musicale est une véritable invitation au r
 êve\, accessible à toute la famille.
GEO:46.2646556;6.3644395
LOCATION:112 Avenue des Romains 74890 Bons-en-Chablais - FR
ORGANIZER:ECOLE MUNICIPALE DE MUSIQUE, THÉÂTRE ET DANSE
END:VEVENT
END:VCALENDAR
