BEGIN:VCALENDAR
VERSION:2.0
CALSCALE:GREGORIAN
METHOD:PUBLISH
BEGIN:VEVENT
SUMMARY:David Calzado & CHARANGA HABANERA  - Concierto único en Suiza
DTSTART:20260522T193000Z
DTSTAMP:20260420T142904Z
CATEGORIES:
DESCRIPTION:Zürich bereitet sich auf eine unvergessliche Nacht vor!\nDie 
 legendäre Band David Calzado und Charanga Habanera kommt nach Zürich\, u
 m 36 Jahre pure Energie\, Rhythmus und musikalische Revolution zu feiern.S
 eit Jahrzehnten prägt diese ikonische Formation die kubanische Timba-Szen
 e und begeistert Fans weltweit mit explosiven Live-Shows\, unverwechselbar
 em Sound und unzähligen Hits.Das erwartet dich:Eine elektrisierende Live-
 Performance voller LeidenschaftDie größten Klassiker der Band.\nWichtig:
  Das einzige Konzert in der Schweiz – eine einmalige Gelegenheit\, dies
 e Ausnahmekünstler live zu erleben!Mach dich bereit für eine Nacht volle
 r Musik\, Tanz und karibischer Lebensfreude – die Timba kommt nach Züri
 ch und die Party ist garantiert!VIP-Reservierungen: +41 774309767events.ga
 iaproductions@gmail.com\nDatum: Freitag\, 22. Mai 2026\nOrt: Alte Kaserne 
  \nPROGRAMM:\n\nEinlass: 21:30Uhr\nKonzert: ca. 23:30Urr\n\nPARTY: DJ TOM
 MY\n----------------------------------------------------------------------
 -----------------\nESPAÑOL:\n¡Zúrich se prepara para una noche históri
 ca!\nDavid Calzado y su Charanga Habanera llegan a la ciudad de Zúrich pa
 ra celebrar 36 años de música\, ritmo y revolución dentro de la timba c
 ubana. Una agrupación mítica que ha marcado generaciones con su energía
 \, su espectáculo único y éxitos que han dado la vuelta al mundo.\nEste
  será el único concierto en toda Suiza\, una oportunidad irrepetible par
 a disfrutar en vivo de una de las bandas más influyentes de la música cu
 bana. Prepárate para cantar\, bailar y vivir una noche cargada de sabor h
 abanero\, con todos los clásicos y la fuerza escénica que solo La Charan
 ga Habanera sabe entregar.\nZúrich\, SuizaCelebrando 36 años de historia
  musicalÚnico concierto en Suiza\nNo te quedes fuera de esta celebración
  legendaria. ¡La timba llega a Zúrich y la fiesta está garantizada! :::
 \nPara reservas de zona VIP y pases especiales: +41 774309767\nFecha: Vier
 nes 22 de mayo 2026\nLugar: Alte Kaserne  \nPROGRAMA:\n\nPuertas: 21:30h\
 nConcierto: ca. 23:30h\n\nPARTY: DJ TOMMY\n \n 
GEO:47.3767167;8.5292306
LOCATION:16 Kanonengasse 8004 Zürich - CH
ORGANIZER:Hummo Productions
END:VEVENT
END:VCALENDAR
