BEGIN:VCALENDAR
VERSION:2.0
CALSCALE:GREGORIAN
METHOD:PUBLISH
BEGIN:VEVENT
SUMMARY:Atelier DECOUVERTE du Havening - STRESS & ANXIETE
DTSTART:20260414T220000Z
DTEND:20260414T233000Z
DTSTAMP:20260421T000229Z
CATEGORIES:
DESCRIPTION:Apprenez à surmonter le stress et anxiété grâce à cette 
 technique puissante de libération émotionnelle.\n \n A calmer votre sy
 stème nerveux quand il s'enflamme ou se bloque et se fige\, vous empêcha
 nt d'agir comme vous le souhaitez.\n \nVenez apprendre et pratiquer le ha
 vening (havening techniques) une technique simple pour calmer le système 
 nerveux et reprogrammer le cerveau en quelques gestes.\n \nComment çà s
 e passe?\nUn RDV convivial d’1h30 rien que pour vous…\n\nun peu de th
 éorie... histoire de savoir de quoi on parle et comment çà fonctionne ?
 \nune véritable séance pratique\ndu soutien - du partage - des sourires 
 et de la bonne humeur \n\nRepartez avec une fiche mémo de la technique e
 t un nouvel outil de développement personnel à expérimenter.\nEn savoir
  plus:\n\nreprogrammer son cerveau grace au havening\nc'est quoi le haveni
 ng\n\n \nRejoignez-moi :\nle Mardi 14 Avril 2026\nde 18h00 à 19h30\n
  \nautres ateliers - autres dates\n \nLocalisation : \nChez Bulles 2 bi
 en-être (aux abymes rue des finances - entre général bricolage et le si
 ège du credit agricole)\n voici la géolocalisation\n \nTarif : 30€ r
 èglement nécessaire pour valider l'inscription\n \n5 places disponibles
  il n'y en aura pas pour tout le monde!!!\nSeules les inscriptions REGLEES
  sont prise en comptes\n 
GEO:16.2543946;-61.5187157
LOCATION:Rue des Finances 97142 Les Abymes - GP
ORGANIZER:Bulles 2 bien-être
END:VEVENT
END:VCALENDAR
