BEGIN:VCALENDAR
VERSION:2.0
CALSCALE:GREGORIAN
METHOD:PUBLISH
BEGIN:VEVENT
SUMMARY:Atelier pratique du Havening - STRESS & ANXIETE
DTSTART:20260317T220000Z
DTEND:20260317T233000Z
DTSTAMP:20260421T013555Z
CATEGORIES:
DESCRIPTION:Vous avez déjà suivi l'un des mes ateliers et vous souhaitez
  pratiquer !!!\nApprenez à mieux comprendre notre système nerveux au reg
 ard de la théorie polyvagale et nous pratiquerons le havening pour mieux 
 gérer le STRESS et l'ANXIETE. \n \nVenez en apprendre plus sur le fonct
 ionnement de votre système nerveux sur le STRESS  et pratiquer le haveni
 ng (havening techniques)  pour calmer le système nerveux et reprogrammer
  le cerveau en quelques gestes.\nUn RDV convivial d’1h30 rien que pour v
 ous…\n \n- un peu de théorie... \n- une véritable séance pratique\n
 - du soutien - du partage - des sourires et de la bonne humeur \n\nEn sav
 oir plus:\nreprogrammer son cerveau grace au havening\n \nc'est quoi le h
 avening\n \n \n \nRejoignez-moi :\nle Mardi 17 Mars 2026\nde 18h00 
 à 19h30\n \nVoir les autres ateliers:\nAutres ateliers - autres dates \n
  \nLocalisation : \nChez Bulles 2 bien-être (aux abymes rue des finances
  - entre général bricolage et le siège du credit agricole)\n voici la 
 géolocalisation\n \nTarif : 30€ règlement nécessaire pour valider l
 'inscription\n \n5 places disponibles il n'y en aura pas pour tout le mon
 de!!!\nSeules les inscriptions REGLEES sont prise en comptes\n 
GEO:16.2543946;-61.5187157
LOCATION:Rue des Finances 97142 Les Abymes - GP
ORGANIZER:Bulles 2 bien-être
END:VEVENT
END:VCALENDAR
