BEGIN:VCALENDAR
VERSION:2.0
CALSCALE:GREGORIAN
METHOD:PUBLISH
BEGIN:VEVENT
SUMMARY:Fête de l'entrepreneuriat étudiant
DTSTART:20260430T153000Z
DTSTAMP:20260424T222202Z
CATEGORIES:
DESCRIPTION:
GEO:49.2383726;4.0626372
LOCATION:2 Esplanade Roland Garros 51100 Reims - FR
ORGANIZER:Pépite Champagne-Ardenne
END:VEVENT
END:VCALENDAR
