BEGIN:VCALENDAR
VERSION:2.0
CALSCALE:GREGORIAN
METHOD:PUBLISH
BEGIN:VEVENT
SUMMARY:MINICIRQUE
DTSTART:20260626T233000Z
DTSTAMP:20260424T170034Z
CATEGORIES:
DESCRIPTION:
GEO:45.5429665;-73.5462955
LOCATION:3363 Rue Ontario Est H1W 1P8 Montréal - CA
ORGANIZER:Minifest
END:VEVENT
END:VCALENDAR
