BEGIN:VCALENDAR
VERSION:2.0
CALSCALE:GREGORIAN
METHOD:PUBLISH
BEGIN:VEVENT
SUMMARY:NBA VIEWING PARTY 2026 - LILLE
DTSTART:20260418T150000Z
DTSTAMP:20260423T162230Z
CATEGORIES:
DESCRIPTION:Venez vibrer lors des PLAYOFFS NBA le 18 avril prochain au CAS
 INO BARRIERE de Lille\nLa soirée sera animée par TRASH TALK ainsi que le
 s différents invités
GEO:48.87056250000001;2.3474863
LOCATION:777 Pont de Flandres\, 59777 Lille 59777 Lille - FR
ORGANIZER:SPORT PLUS CONSEIL
END:VEVENT
END:VCALENDAR
