BEGIN:VCALENDAR
VERSION:2.0
CALSCALE:GREGORIAN
METHOD:PUBLISH
BEGIN:VEVENT
SUMMARY:Concert de fin d’année ESRA
DTSTART:20260417T173000Z
DTSTAMP:20260421T104545Z
CATEGORIES:
DESCRIPTION:CONCERT DE FIN D’ANNÉE – ÇA VA FAIRE DU BRUIT\nLe 17 avr
 il 2026\, les étudiants de l’ESRA investissent le Théâtre de la Licor
 ne pour une soirée 100% live!\nReprises rock énergiques\, agrémentées 
 de quelques surprises\, pour une soirée qui vous fera taper du pied du d
 ébut à la fin.\nEntrée GRATUITE19h30CannesPlaces non numérotées – p
 remier arrivé\, premier servi !\nRamène tes amis\, ta bonne humeur et to
 n énergie.On t’attend pour une soirée qui va faire trembler la scène.
GEO:43.5491318;6.981255900000001
LOCATION:25 Avenue Francis Tonner 06150 Cannes - FR
ORGANIZER:ESRA
END:VEVENT
END:VCALENDAR
