BEGIN:VCALENDAR
VERSION:2.0
CALSCALE:GREGORIAN
METHOD:PUBLISH
BEGIN:VEVENT
SUMMARY:San-Nom - Release Party - Le Hasard Ludique
DTSTART:20260519T180000Z
DTSTAMP:20260420T183509Z
CATEGORIES:
DESCRIPTION:ULYSSE MAISON D'ARTISTES présente : SAN-NOM & guests - Releas
 e Party SANS SUCCÈS. Nouvel album à paraître en mai 2026.\nPremière p
 artie : LY\nOuverture des portes : 20h\n \n \nSan-Nom c’est quoi ? C
 ’est super.Sans Succès c’est quoi ? Le prochain album de San-Nom (qui
  est super).Une release party c’est quoi ? C’est une fête de sortie e
 n français (en l’occurrence pour la sortie du prochain album qui s’ap
 pelle Sans Succès de l’artiste San-Nom - qui est super).Le Hasard Ludiq
 ue c’est quoi ? C’est une salle de spectacle dans le 18ème arrondisse
 ment de Paris qui accueillera la release party\, qui est une fête de sort
 ie en français\, qui accueillera la sortie du prochain album de San-Nom (
 qui est super) qui s’appelle Sans Succès et qui sortira en mai 2026.Par
 is c’est quoi ? Bon ça va deux minutes vos questions\, j’ai un concer
 t à préparer moi…\n 
GEO:48.895697;2.3285964
LOCATION:128 Avenue de Saint-Ouen 75018 Paris - FR
ORGANIZER:ULYSSE MAISON D'ARTISTES
END:VEVENT
END:VCALENDAR
