BEGIN:VCALENDAR
VERSION:2.0
CALSCALE:GREGORIAN
METHOD:PUBLISH
BEGIN:VEVENT
SUMMARY:Journée BOOSTCAMP pour entrepreneures - Paris18- 28 mars 2026
DTSTART:20260328T080000Z
DTEND:20260328T170000Z
DTSTAMP:20260419T140415Z
CATEGORIES:
DESCRIPTION:Tu es entrepreneuse et tu souhaites t'offrir un temps pour ava
 ncer dans ton entreprise en profitant de l’intelligence collective ? \n
 \nUne journée pour booster la confiance en toi\, l’amour de toi\, la
  reconnexion à ton corps et à ton image\, la motivation et le focus\,
  l’évolution de ton entreprise\, ta création entrepreneuriale.\n4 at
 eliers collectifs d’1 h autour des thématiques : Reconnexion à ton co
 rps / Ta posture à travers ton image / Construire ta vision / Auto-co
 aching en groupe.\nNotre méthode se base sur une alliance qui\, à premi
 ère vue\, peut paraitre insolite mais qui a tout son sens. \nAvec notre c
 asquette de coaches\, nous te proposons d'appliquer des pratiques holistiq
 ues (la respiration\, la visualisation\, l'introspection\, le questionneme
 nt\, l'identification des croyances) au monde de l'entrepreneuriat.Qu'est 
 ce que cela veut dire ? \nSi jusqu'à aujourd'hui pour être légitime dan
 s ton travail\, tu as toujours travaillé tes compétences concrètes (le 
 business\, le commerce\, la communication\, les compétences spécifiques 
 à ton métier\, etc..) peut-être ce qui manque à ton entreprise pour se
  developper ulterieurement et se différencier des autres\, c'est d'y mett
 re le plus possible de ton essence\, qui est unique. \nJe sais qu'à une p
 remière approche cela peut paraitre difficile\, car tu te sens vulnérabl
 e vis à vis du jugement des autres (et de toi-même).Se mettre en avant\,
  quand cela est fait en alignement avec ses valeurs\, c'est au contraire u
 ne grande force\, qui permettra à tes clients de s'identifier avec toi et
  de rentrer en résonance avec tes services.C'est celle-ci la clé que nou
 s te proposons. \nSi tu remarques que tu as du mal à lâcher ce besoin de
  contrôle et tu te dis que tu ne comprends pas encore les activités que 
 nous te proposons\, c'est le moment de nous faire confiance et de faire co
 nfiance au processus. Nous te garantissons que tu en verras des résultats
  dès les premières heures avec des actions concrètes que tu pourras met
 tre en place facilement.\n\nC’EST POUR TOI SI :\n\nTu as du mal à avanc
 er dans ton projet. \nTu as besoin de te reconnecter à la joie. \nTu as 
 besoin de t'amuser\, de prendre du temps pour toi et\, en même temps\, de
  baigner dans ton essence créative. \nTu as envie de te sentir bien entou
 rée.\n\nPOUR QUI :\nToute entrepreneure souhaitant créer ou évoluer da
 ns son business tout en restant alignée à ses valeurs.\nLieu : Paris 1
 8  \nQuand : samedi 28 mars de 9h à 18h \n \nLes places sont limité
 es à 10 entrepreneuses pour garantir une ambiance la plus intime possible
 . \n \nDans la section TARIFS tu pourras choisir le TARIF qui te corrisp
 ond le mieux parmi les 3 proposés \nTARIF JOURNEE : 4 ateliers collectif
 s + repas + gouter 180€\nTARIF LUMIERE : 4 ateliers collectifs + repas +
  gouter + séance photo de 20' avec Gwladys 180€ (+ 100€ à regler dir
 ectement à Gwladys)\nTARIF ENERGIE : 4 ateliers collectifs + repas + gout
 er + séance liberation energetique avec Carole 180€ (+ 50€ à regler 
 directement à Carole)\n 
GEO:48.892628;2.3451076
LOCATION:Rue Hermel 75018 Paris - FR
ORGANIZER:Angela Maccianti
END:VEVENT
END:VCALENDAR
