BEGIN:VCALENDAR
VERSION:2.0
CALSCALE:GREGORIAN
METHOD:PUBLISH
BEGIN:VEVENT
SUMMARY:Cheri\, faut qu'on parle !
DTSTART:20260221T203000Z
DTEND:20260426T160000Z
DTSTAMP:20260422T045058Z
CATEGORIES:
DESCRIPTION:Spectacle à 20h30Ouverture des portes 19h30Placement Libre
GEO:47.599107;2.0236957
LOCATION:1 Avenue de l'Hôtel de ville 41600 Lamotte-Beuvron - FR
ORGANIZER:Safe Production
END:VEVENT
END:VCALENDAR
