BEGIN:VCALENDAR
VERSION:2.0
CALSCALE:GREGORIAN
METHOD:PUBLISH
BEGIN:VEVENT
SUMMARY:webinaire intelligence artificielle 
DTSTART:20260309T100000Z
DTEND:20260309T113000Z
DTSTAMP:20260422T195633Z
CATEGORIES:
DESCRIPTION:\nWebinaire organisé par Convergence http://convint.com \n
 \nL’intelligence artificielle générative\, levier du développement in
 ternational Europe–Afrique\n\nINFORMATIONS PRATIQUES POUR S'INSCRIRE:\n\
 n→ Inscrivez-vous via la billeterie située ci-dessous\n\n→ Sélection
 nez la quantitée que vous souhaitez\n\n→ Veuillez à bien remplir les i
 nformations demandées  \n\n→ Veuillez à ne pas oublier de cocher "J'a
 ccepte les conditions générales de vente"\n\n→ Validez votre inscript
 ion pour pouvoir participer à notre webinaire\n\n	 \n
LOCATION:   - FR
ORGANIZER:Convergence International SAS
END:VEVENT
END:VCALENDAR
