BEGIN:VCALENDAR
VERSION:2.0
CALSCALE:GREGORIAN
METHOD:PUBLISH
BEGIN:VEVENT
SUMMARY:Le Jardin de Philofix 2026 - Banquet "Mémoire et oubli"
DTSTART:20260822T120000Z
DTSTAMP:20260422T135246Z
CATEGORIES:
DESCRIPTION:\n	Le Jardin de Philofix\, c'est une après-midi de musiques e
 t de rencontres étonnantes. En 2025\, il se déroule dans sa formule Banq
 uet dont le thème est "Mémoire et oubli".\n\n	 \n
LOCATION:Rue du Centenaires 5640 METTET - BE
ORGANIZER:François-Xavier HEYNEN
END:VEVENT
END:VCALENDAR
