BEGIN:VCALENDAR
VERSION:2.0
CALSCALE:GREGORIAN
METHOD:PUBLISH
BEGIN:VEVENT
SUMMARY:CroissanceCLUB : une journée de planification des priorités et d
 e vos actions
DTSTART:20260618T063000Z
DTEND:20260618T153000Z
DTSTAMP:20260425T225443Z
CATEGORIES:
DESCRIPTION:Reprenez le contrôle de votre entreprise\nLe CroissanceCLUB e
 st une journée dédiée aux dirigeants de TPE et PME pour sortir du quoti
 dien\, structurer leur vision et repartir avec un plan d’action concret 
 pour les 90 prochains jours.\nCe que vous allez vivre :\n\n\nUne vraie pri
 se de recul pour analyser ce qui fonctionne (ou pas) dans votre entreprise
 .\n\n\nUn accompagnement étape par étape pour construire votre feuille d
 e route personnalisée.\n\n\nUn plan de 90 jours clair\, visuel et actionn
 able\, que vous afficherez dans vos bureaux dès le lendemain.\n\n\nDes é
 changes riches avec d’autres dirigeants qui partagent vos enjeux.\n\n\nD
 es outils et des méthodes éprouvées pour gagner du temps\, mieux délé
 guer\, développer vos ventes et maximiser vos résultats.\n\n\n"À la fin
  de la journée\, vous saurez exactement quoi faire\, quand le faire et po
 urquoi."\n\n\nLe CroissanceCLUB vous aide à :\n\n\nStructurer votre visio
 n d’entreprise\n\n\nClarifier vos priorités\n\n\nBooster votre rentabil
 ité\n\n\nRepartir avec une motivation renforcée\n\n
GEO:48.1055574;-1.6733446
LOCATION:4 Rue Georges Cuvier 22300 Lannion - FR
ORGANIZER:ABC Armor Business Coaching
END:VEVENT
END:VCALENDAR
