BEGIN:VCALENDAR
VERSION:2.0
CALSCALE:GREGORIAN
METHOD:PUBLISH
BEGIN:VEVENT
SUMMARY:Repas Dansant Polonais
DTSTART:20260913T090000Z
DTSTAMP:20260424T152412Z
CATEGORIES:
DESCRIPTION:Au menu :\n\nRoyal Cassis ou Jus de fruit (sans alcool)\nAssie
 tte de charcuteries polonaises\,\nChoucroute au choix (polonaise ou de la 
 mer)\,\nSorbet citron / Vodka\nPatisserie\,\n1 bouteille de vin pour 6 per
 sonnes.\n\nLa choucroute est composée d'échine de porc\, Sosiski\, Sauci
 sse fumé et saucisson à l'ail.\nLa choucroute de la mer est composée de
  gambas\, fruits de mer\, dos de lieu noir et saumon.\nCeci accompagné de
  choucroute cuisiné Label Rouge et pomme de terre vapeur.\nA partir de mi
 di\, l'orchestre Freddy Mark vous fera danser jusque 20 heures.\nUn menu e
 nfant est également disponible (pour les moins de 12 ans) composé d'un h
 amburger classique de l'Auberge\, potatoes\, dessert et 1 boisson.\nOuvert
 ure des portes à 11 heures.\nRepas à partir de 14 heures.
GEO:50.3788539;3.422829
LOCATION:Avenue Michel Rondet 59135 Wallers - FR
ORGANIZER:Amicale de la République
END:VEVENT
END:VCALENDAR
