BEGIN:VCALENDAR
VERSION:2.0
CALSCALE:GREGORIAN
METHOD:PUBLISH
BEGIN:VEVENT
SUMMARY:DRAMA ON THE CORNER + THE BIG HUSTLE
DTSTART:20260514T180000Z
DTEND:20260514T180000Z
DTSTAMP:20260421T104152Z
CATEGORIES:
DESCRIPTION:= DRAMA ON THE CORNER + THE BIG HUSTLE\nDouble bill Jazz Funk 
 Affair !\n \nPour la 10ème sortie du label Betino's Records\, le New Mor
 ning accueille deux des meilleurs fleurons du groove parisien pour un doub
 le plateau exceptionnel. D'un côté\, Drama On the Corner avec la chanteu
 se Ladybird et son néo funk brésilien exquis. De l'autre\, The Big Hustl
 e et leur jazz funk imparable avec en special guests Ludivine Issambourg &
  Kohndo ! Sans oublier les DJ sets de Betino et DJ Ness Afro.\n \n= DRAMA
  ON THE CORNER :\nAmis depuis toujours\, Gérald Portocallis et Adrien de 
 Araujo forment Drama On The Corner en 2016\, désireux de réunir toutes l
 eurs influences Jazz et House music\, musique électronique à travers laq
 uelle ils se sont découverts une fascination commune pour la disco\, la f
 unk et le rare groove à travers les samples utilisés. On comprend imméd
 iatement à quoi aspire le paysage musical de DOTC : des productions moder
 nes et avant-gardistes qui brouillent les lignes sonores entre les instrum
 ents électroniques et acoustiques. Leur second EP « Orixa » qui sortira
  en Vinyle avec un bonus track sur le label Betino's Record opère un reto
 ur aux origines brésiliennes d'Adrien\, à la samba funk et au rare groov
 e des années 70.\nLadybird est une auteure-compositrice-interprète franc
 o-australienne aux influences soul\, funk et jazz. Elle a sorti un album a
 vec Olivier Portal\, créé le collectif « Soldiers of Twilight » avec l
 es producteurs DJ Rork et Demon Ritchie. Elle a collaboré avec des produc
 teurs tels que Phil weeks\, Ralf Gum\, Brian Cox « The Wizard »\, Aqua B
 assino\,\,Andy Compton\, entre autres. Brillante chanteuse de Deep House\,
  elle collabore à présent avec Drama On The Corner sur ce nouvel EP ´Or
 ixa' et chantera son classique ´My Precious Thing'\, revisité par Drama 
 On The Corner.\n \nLINE UP :\nLadybird - chant\nAdrien de Araujo - clavie
 rs\, chant\nDanny Marta - basse\nGérald Portocallis - batterie\, electron
 ics\nArno de Casanove - Trompette\nCharlotte planchou - choeurs\nAudrey Pi
 erre - choeurs\nAlice Remy - choeurs\n \nhttps://youtu.be/q9EeTamOH9U?si=
 iz0H7Jw6IscDki0e\n \n---------------\n \n= THE BIG HUSTLE :\nDe retour d
 u Japon\, le groupe Big Hustle nous présentera le tout nouveau projet de 
 Sébastien Levaneur avec la chanteuse japonaise Michelle Michina qui sera 
 également sur la scène du New Morning : Tokyo EP\, une réunion de haut 
 vol entre musiciens japonais et français. Un mélange funk et pop des deu
 x univers. Une véritable réussite sortie également sur le label Betino'
 s Record. Très inspiré par les années 70\, avec un son furieusement act
 uel\, The Big Hustle se nourrit du Funk de du Jazz Funk de cette époque f
 lorissante avec des échappées rock\, hip-hop\, afro-beat\, soul et même
  électro. Sur scène\, c'est un choc d'énergie qui électrise le corps e
 t l'esprit !\nFormé à Paris en 2014 et influencé par la nouvelle scène
  funk et le jazz électrique de cette période (Snarky Puppy\, Soulive\, L
 ettuce\, ou encore Electro Deluxe)\, The Big Hustle est un des fleurons du
  groove made in France. Avec sa section cuivre puissante et précise\, une
  rythmique funky et rock à la fois\, la musique du groupe offre une palet
 te de couleurs vaste et variée\, tour à tour mélodique et technique\, i
 ntime et festive !\n \nLINE UP :\nSébastien Levanneur - Basse\nFrançois
  Faure - Claviers\nThomas Faure - Saxophone ténor\nSamuel Maingaud - Sax 
 alto \nVincent Echard -Trompette\nJo Champagnon - Guitare\nBenjamin Delar
 ue - Guitare\nJeff Ludovicus - Batterie\nAlex Tran - Percussions \nMichel
 le Michina - Voix & Koto \n \nhttps://youtu.be/yk_anATiNYQ?si=p_9EDN_PGw
 Gw7grl\n \n \n 
LOCATION:7/9 Rue des Petites Ecuries 75010 Paris - FR
ORGANIZER:New Morning
END:VEVENT
END:VCALENDAR
