BEGIN:VCALENDAR
VERSION:2.0
CALSCALE:GREGORIAN
METHOD:PUBLISH
BEGIN:VEVENT
SUMMARY:Love Race 2026
DTSTART:20260621T123000Z
DTEND:20260621T150000Z
DTSTAMP:20260421T230409Z
CATEGORIES:
DESCRIPTION:
GEO:47.4895532;2.4423927
LOCATION: 18700 Aubigny-sur-Nère - FR
ORGANIZER:Commune d'Aubigny sur Nère
END:VEVENT
END:VCALENDAR
