BEGIN:VCALENDAR
VERSION:2.0
CALSCALE:GREGORIAN
METHOD:PUBLISH
BEGIN:VEVENT
SUMMARY:2026 Sohn Monaco Investment Conference
DTSTART:20260624T103000Z
DTEND:20260624T160000Z
DTSTAMP:20260422T084946Z
CATEGORIES:
DESCRIPTION:\nWelcome to the 2026 Sohn Monaco Investment Conference!\n\nTh
 e Sohn Conference Foundation is dedicated to supporting innovative initiat
 ives to cure and treat today’s public health priorities. Identifying spe
 cific areas of need\, The Foundation funds groundbreaking research\, state
 -of-the-art technology\, and programs to target cures and improve patient 
 care.\n\n \n\nThe Sohn Investment Conference honors the memory of Ira Soh
 n\, a Wall Street professional who lost his battle with cancer at age 29. 
 His friends and family founded The Sohn Investment Conference in New York 
 in 1995.\n\n \n\nThe Foundation calls the world’s most successful inves
 tors to give their time and inspire large audiences and followers in the n
 ame of The Foundation’s cause. The Foundation has expanded its investmen
 t forums to include Australia\, Hong Kong\, London\, Monaco\, Montreal\, S
 an Francisco\, and Tel Aviv.\n\n \n\nThe Sohn Monaco Investment Conferenc
 e convenes leading hedge fund managers and alternative investors to share 
 market insights while raising funds in support of pediatric cancer researc
 h\, treatment and care.\n\n \n\nTo learn more about the Sohn Conference F
 oundation\, please visit sohnconference.org \n\n \n\nBecome a Sohn Partne
 r\n\nFor questions about sponsorship\, ticket packages and other tailored 
 partnership opportunities\, please contact sohn@monaco.mc\n\n \n\nAgenda
 \n\nWednesday 24 June 2026\n\n \n\n• 12:30pm | Registration and network
 ing lunch\n\n• 2pm | Conference\n\n• 6pm | Cocktail reception\n\n \n\
 nTravel & Accommodation\n\nPlease contact us for hotel recommendations\n
LOCATION:Quai Louis II 98000 Monaco - MC
ORGANIZER:Sohn Monaco
END:VEVENT
END:VCALENDAR
