BEGIN:VCALENDAR
VERSION:2.0
CALSCALE:GREGORIAN
METHOD:PUBLISH
BEGIN:VEVENT
SUMMARY:Journée scientifique Troubles des Conduites Alimentaires 
DTSTART:20260602T070000Z
DTEND:20260602T150000Z
DTSTAMP:20260425T143221Z
CATEGORIES:
DESCRIPTION:\n	A l'occasion de la semaine nationale de sensibilisation aux
  Troubles des Conduites Alimentaires (TCA) du 1er au 7 juin 2026\, supervi
 sée par la Fédération Française Anorexie Boulimie (FFAB)\, le Centre d
 e Recours et de Coordination des Troubles des Conduites Alimentaires (CRC 
 TCA) Nord Nouvelle-Aquitaine Poitiers organise une Journée Scientifique T
 CA le mardi 2 juin à Poitiers.\n\n	La journée aura pour thème : "Croise
 r les regards\, renforcer les pratiques".\n\n\nDate : 2 juin 2026\n\nHorai
 res : de 9h à 17h\n\nLieu : salle de conférence du Centre Hospitalier La
 borit - Poitiers\n\n\n	Evénément gratuit.\n\n	Programme complet à venir
 .\n\n	 \n
LOCATION:370 avenue Jacques Coeur 86000 Poitiers - FR
ORGANIZER:Centre Hospitalier Laborit
END:VEVENT
END:VCALENDAR
