BEGIN:VCALENDAR
VERSION:2.0
CALSCALE:GREGORIAN
METHOD:PUBLISH
BEGIN:VEVENT
SUMMARY:Invitation formation gratuite pour traducteurs – Boostez votre v
 isibilité
DTSTART:20260312T131500Z
DTEND:20260312T163000Z
DTSTAMP:20260425T164921Z
CATEGORIES:
DESCRIPTION:Objet : Participez à notre formation gratuite le 12  Mars à
  Sophia Antipolis !\nBonjour\,\nSwantrad a le plaisir de vous inviter à u
 ne formation gratuite dédié exclusivement au traducteurs et interprètes
  qui se tiendra le Jeudi  12 Mars 2026\, de 14h15 à 17h30\, dans nos loc
 aux de Sophia Antipolis.\nUn cadeau vous sera réservé à la fin de la fo
 rmation.\nAdresse :245 Route des Lucioles Bat A06560 Valbonne – Sophia A
 ntipolis\nAu programme :\n\nDécouverte et utilisation des outils Swantrad
 \nComment améliorer votre visibilité sur Google et attirer de nouveaux p
 rospects\nFormation à la signature électronique Eidas\nFacture éléctro
 nonique réforme 2026\n\nEt ce n’est pas tout :Vous repartirez avec plei
 n de solutions innovantes pour booster votre métier !Elles sont toutes gr
 atuites et mises à votre disposition pour vous aider à passer à la vite
 sse supérieure.\nParticipation gratuite\, mais inscription obligatoire (p
 laces limitées).\nPlus Infos : contact@swantrad.com ou +336 17 21 21 26\n
 Nous serions ravis de vous accueillir !\nÀ très bientôt\,L’équipe Sw
 antrad\nWWW.SWANTRAD.COM\n \nNos partenaires \n
GEO:43.6150757;7.047447699999999
LOCATION:245 Route des Lucioles 06560 Valbonne - FR
ORGANIZER:SWANTRAD
END:VEVENT
END:VCALENDAR
