BEGIN:VCALENDAR
VERSION:2.0
CALSCALE:GREGORIAN
METHOD:PUBLISH
BEGIN:VEVENT
SUMMARY:Rencontre/Dédicace Mathilda Di Matteo Talent Cultura
DTSTART:20260314T090000Z
DTEND:20260314T110000Z
DTSTAMP:20260420T145746Z
CATEGORIES:
DESCRIPTION:Événement à ne pas manquer dans votre magasin Cultura de Fr
 anconville !\nNous avons le plaisir d’accueillir la lauréate du Prix Ta
 lent Cultura\, Mathilda Di Matteo\, le samedi 14 mars 2026\, de 10h à 12h
 .\nAu programme : un temps d’échange privilégié pour lui poser toutes
  vos questions après votre lecture\, suivi d’une séance de dédicaces 
 de vos exemplaires.\nVenez rencontrer l’autrice\, partager votre passion
  et repartir avec un livre dédicacé — on vous attend nombreux !
GEO:48.9895301;2.209213
LOCATION:330 Rue du Général Leclerc 95130 Franconville - FR
ORGANIZER:Magasin
END:VEVENT
END:VCALENDAR
