BEGIN:VCALENDAR
VERSION:2.0
CALSCALE:GREGORIAN
METHOD:PUBLISH
BEGIN:VEVENT
SUMMARY:BACHATA ADDICT 30 AVRIL 2026
DTSTART:20260314T185000Z
DTEND:20260731T010000Z
DTSTAMP:20260420T014436Z
CATEGORIES:
DESCRIPTION:\n	Danse Freedom 35 et le Roller´s présentent...\n\n	??? FRE
 EDOM BACHATA ADDICT  DE 19h45 à 03h ???\n\n	***** SPECIALE BACHATA *****
 \n\n	 \n\n	L’équipe Danse Freedom 35 vous invite à venir danser au RO
 LLER´S à LA MEZIERE le jeudi 30/04/2026  vieille ferié  pour une s
 oirée dansante de folie.  \n\n	Un grand parquet de 500m2\, une team tr
 ès motivée et un staf accueillant vous y attendront.\n\n	Nous vous espé
 rons nombreux pour venir fêter les soirées mensuelles de DanseFreedom 35
  qui manquaient à la ville de Rennes et Bretagne.  \n\n	Super soirée à
  ne manquer sous aucun prétexte !  Vamos que vamoss....\n\n	 \n\n	???? 
 PLANNING ????\n\n	- 19h45➡️ ouverture des portes\n\n	- 20h00➡️ COU
 RS BACHATA\n\n	- 21h00➡️ COURS BACHATA\n\n	- 22h00➡️ SOIREE BACHAT
 A\n\n	- 02h00➡️ FIN\n\n	 \n
LOCATION:11 All. de Betton\, 35520 La Mézière 35520 La Mézière - FR
ORGANIZER:Association Danse Freedom 35
END:VEVENT
END:VCALENDAR
