BEGIN:VCALENDAR
VERSION:2.0
CALSCALE:GREGORIAN
METHOD:PUBLISH
BEGIN:VEVENT
SUMMARY:NORMAN CONNORS & THE STARSHIP ORCHESTRA
DTSTART:20260508T180000Z
DTEND:20260508T180000Z
DTSTAMP:20260421T003033Z
CATEGORIES:
DESCRIPTION:= NORMAN CONNORS & THE STARSHIP ORCHESTRA\nCelebrates 50 years
  of "You Are My Starship" album\n \nPour la première fois en France\, le
  légendaire producteur\, compositeur et batteur américain de jazz funk\,
  Norman Connors\, se produira à Paris avec son mythique Starship Orchestr
 a pour célébrer les 50 ans de l'album culte "You Are My Starship". Pour 
 cet anniversaire exceptionnel\, il sera accompagné de prestigieux musicie
 ns ayant joué avec Prince\, Diana Ross\, Angela Bofill. Une soirée incon
 tournable\, placée sous le signe du groove\, de l'élégance et de l'hér
 itage soul jazz\, pour célébrer un repertoire intemporel.\n \nOriginair
 e de Philadelphie\, Norman Connors débute aux côtés de géants du jazz 
 tels que John Coltrane\, Archie Shepp et Pharoah Sanders avant de lancer s
 a carrière solo avec Dance of Magic en 1972.\n \nDeux ans plus tard\, ch
 ez Buddah Records - où il officie également comme directeur artistique -
  il connaît un succès retentissant avec « Valentine Love »\, « We Bot
 h Need Each Other » et l'intemporel You Are My Starship. Découvreur de t
 alents\, il lança la carrière de grandes voix du jazz\, de la soul et du
  disco qui enregistrèrent souvent et d'abord sur ses albums. On pense à 
 Dee Dee Bridgewater\, Phyllis Hyman\, Jean Carne et Michael Henderson.\n 
 \nSon catalogue regorge de classiques rare groove et jazz funk devenus cul
 tes (Mother Of The Future\, Captain Connors\, Phoenix\, Stella\, Look Ahea
 d\, Say you love me\, Be there in the morning\, Once I've been there)\, au
 ssi bien samplés par le hip hop et la house. Sa carrière l'a vu collabor
 er avec des figures majeures comme Herbie Hancock\, Stanley Clarke\, Bobby
  Lyle\, Hubert Laws\, Gary Bartz ou encore Freddie Hubbard.\n \n \n 
LOCATION:7/9 Rue des Petites Ecuries 75010 Paris - FR
ORGANIZER:New Morning
END:VEVENT
END:VCALENDAR
