BEGIN:VCALENDAR
VERSION:2.0
CALSCALE:GREGORIAN
METHOD:PUBLISH
BEGIN:VEVENT
SUMMARY:AFROBEAT GIANTS\, HOMMAGE A HILAIRE PENDA
DTSTART:20260523T180000Z
DTEND:20260523T180000Z
DTSTAMP:20260420T202210Z
CATEGORIES:
DESCRIPTION:= AFROBEAT GIANTS\, HOMMAGE à HILAIRE PENDA\nAvec Kiala\, Cyr
 il Atef\, Vincent Segal\, Magik Malik\, Patrick Gorce\n \norsque les lion
 s de l'afro-jazz-funk et de l'électro se rencontrent\, pour rendre hommag
 e à leur ami Hilaire PENDA disparu en 2018\, dans un moment inattendu hyp
 ersensible de hautes vibrations\, le résultat est sublime et marque la so
 rtie d'un joyau de l'année 2025 : l'album « One Race »\, chez Tangentia
 l Music avec le soutien de Afrobeat-No Limit & Rares Talents.\n \nThe Mus
 t have\, un concentré de pépites d'afro funk qui font penser aux Kings A
 méricains (James Brown\, Michael Jackson) pour la partie du funk/soul\, a
 vec le beat et les lignes de basse imparables\, de soul jazz à la Gil Sco
 tt Heron dans son envolée lyrique et révolutionnaire\, et de gospel de l
 a communauté Spiritual\, pour la communion et le repos de l'âme d'Hilair
 e. Dans tout ce trésor alléchant d'Afrobeat Next Step\, on découvre un 
 univers particulier et dense de son créateur\, qui a dans son âme la Mag
 ie du Congo\, la vivacité et la diversité scénique de l'âge d'or de la
  musique africaine des années 70 et 80.\n \n= Kiala\nKiala Nzavotunga es
 t un chanteur guitariste hors pair. Ancien membre de Fela Kuti & Egypt 80 
 et fondateur de Ghetto Blaster et Afroblaster\, sa musique ne se contente 
 pas de servir l'Afrobeat classique\, elle est marquée par la richesse de 
 ses rencontres\, et de la langue Ngala qui lui confère une teinte particu
 lière mêlée de sanza et des sons funk\, jazz\, emportés dans les efflu
 ves de guitares ravageurs. Le Gentleman\, ambassadeur de l'Afrobeat\, apr
 ès la disparition attristée de son ami Hilaire PENDA\, le monumental bas
 siste camerounais décédé en 2018\, eu l'idée de rassembler les amis po
 ur lui rendre un hommage avec la sortie de l'album « One Race ». Un albu
 m vibrant et engagé\, porteur d'un message d'unité et d'amour\, réuniss
 ant quelques-uns des meilleurs musiciens de la scène Afrobeat internation
 ale actuelle. Le résultat est d'autant plus ravageur que l'album se disti
 ngue du classico-afrobeat dans ses rythmes et les mélodies\, les lignes d
 e guitare magistrales délicieusement bluesy et funky\, pendant que Cyril 
 ATEF dit PapaTEF envoie du lourd et de la bonne sauce à la batterie\, Vin
 cent SEGAL au violoncelle envoûtant\, Magic Malik le flûtiste captivant 
 et Patrick Gorce\, le gourou-percussionniste à l'énergie débordante\, a
 pportent de solides bases afro-funk contemporaines à ce joujou de l'anné
 e.\n \n= Cyril ATEF - dites PAPATEF !\nCyril Atef est l'un des rares arti
 stes internationaux à cumuler dans ses divers projets et collaborations l
 'estime de l'underground (Olympic Gramofon\, Bumcello) et la reconnaissanc
 e du grand public (-M-\, Bernard Lavilliers\, Alain Bashung\, Salif Keita)
 . Cyril Atef\, à lui tout seul est un homme-orchestre qui continue de s'e
 xprimer en live\, notamment via son projet PAPATEF. Il a le secret pour fa
 ire monter la transe d'un cran en conviant les exaltations populaires du m
 onde entier\, dans un spectre musical très large (Great Black Music\, Afr
 ique\, Antilles\, Brésil\, Orient\, jungle\, rock).\n \n= Vincent SEGAL\
 nVirtuose violoncelliste et bassiste\, qui s'est fait connaître à la fin
  des années 1990\, en partie grâce à son duo magique Bumcello avec Cyri
 l Atef . Il maîtrise un grand nombre de genres\, allant aussi bien de la 
 musique contemporaine à l'électro\, en passant par le jazz\, les musique
 s improvisées et la musique du monde. Il a ainsi collaboré avec des arti
 stes aussi divers que Cesaria Evora\, Vanessa Paradis\, Brigitte Fontaine\
 , Ballaké Cissoko. Partisan d'une musique inspirée de ses rencontres\, e
 nthousiasmes et désirs d'interroger et innover\, Vincent Segal expérimen
 te depuis toujours et dans tous les registres : classique\, jazz\, musique
  contemporaine\, hip-hop\, reggae\, afro-beat\, rock\, chanson\, musiques 
 africaines\, musique de film.\n \n= Magic Malik \nVéritable figure du j
 azz français\, Malik Mezzadri (dit Magic Malik) est un compositeur et mus
 icien exceptionnel\, qui ne cesse de développer son univers créatif par 
 de multiples projets. Hypersensible\, intelligent\, aventurier et surdoué
 \, depuis trois décennies\, ce flûtiste virtuose et toujours surprenant 
 dessine un chemin-carrière où la préoccupation d'artiste ne cède rien 
 à celle de recherches esthétiques et spirituelles courageuses. Du jazz 
 à l'électro en passant par la musique ethnique\, Magic Malik a beaucoup 
 voyagé. En 2019 il revisite à sa manière\, sans nostalgie et sans redit
 e\, des standards de jazz des géants qu'il admire dans une version quinte
 t qui compte le brillant trompettiste Olivier Laisnay. En 2022 est sorti K
 afrobeat\, un voyage porté par neuf musiciens centré sur l'afrobeat au s
 ens large\, de l'héritage de Fela aux rythmes traditionnels camerounais. 
 Pour l'enregistrement de Kafrobeat\, Magic Malik s'entoure d'invités de m
 arque comme le guitariste-chanteur Kiala\, musicien de Fela Kuti avec Egyp
 t 70\, ou encore la chanteuse Sandra Nkaké. Il a collaboré avec de nombr
 eux artistes tels que -M-\, Camille\, Bumcello\, Air\, Pierrick Pédron\, 
 Aka Moon\, Claire Diterzi\, Anthony Joseph et Oumou Sangaré.\n \n= Patri
 ck Gorce\nPercussionniste-batteur\, maître de la transe. A 20 ans\, c'est
  à ses racines africaines qu'il retourne. Au Togo\, il est initié aux vo
 odoo rythmes\, sa deuxième éducation humaine et musicale. Rythmophage mo
 rdu\, il s'abreuve du savoir de nombreux maîtres : djembé\, percussions 
 afro-brésiliennes\, vaudou haïtien\, rumba cubaine et batas\, percussion
 s orientales\, flamenco\, tambours japonais\, tablas indiens et batterie. 
 Attention\, c'est du Très Puissant Voodoo Effect !\n \n= DJ Ness Afro\nD
 irecteur artistique du label Tangential Music à Londres\, passionné de v
 inyles\, Ness est une figure de la communauté afrobeat. Il a assuré les 
 premières parties de nombreuses références du genre (Seun Kuti\, et Fem
 i Kuti\, Ebo Taylor\, The Soul Jazz Orchestra...) et a sorti 7 albums en t
 ant que producteur et manager de groupes tels que Kiala & Afroblaster\, Dr
 ama On The Corner et Lagos Thugs. Résident du New Morning et du Monkey Pi
 galle\, ce chasseur insatiable de pépites musicales enflamme les danceflo
 or grâce à ses sets ciselés et endiablés. Il est également DJ réside
 nt et journaliste pour Ness Radio. \n \n= Afrobeat Giants Family\nMyriam
  Betty - choriste des Ghettos Blaster\, elle a accompagné des artistes te
 ls que Ray Lema\, Salif Keita\, Mory Kante\, Papa Wemba\, Youssou N'Dour\,
  Ismaël Lô\, So Kalmery\, Lokua Kanza\, Alpha Blondy\, Tony Allen\, Ang
 élique Kidjo...\n \nJean-Baptiste Ekoue GBADOE - artiste musicien batteu
 r togolais. Il a accompagné de grands artistes togolais comme : Jimi Hope
 \, King Mensah\, Julie Akofa Akoussah\, Fifi Rafiatou\, Assou et Sevi nota
 mment. Il a aussi collaboré avec Fatoumata Diawara\, Aïcha Kone\, Angeli
 que Kidjo\, Ghetto Blaster\, Black Bazar.\n \nIndy Dibongue - guitariste 
 compositeur\, il a travaillé longtemps auprès de Tony ALLEN\, le maître
  du Beat-Afro. Arrivé à une certaine maturité artistique après des ann
 ées dans l'Afrobeat\, l'artiste camerounais avait signé son come-back à
  travers son deuxième album intitulé : « Bebey Blues ». Un recueil de 
 huit titres groovy entièrement dédié à Francis Bebey\, une des grandes
  pointures de la musique camerounaise. Du pur afrogroove pour faire vibrer
  et valoriser le patrimoine musical des artistes africains.\n \n \n 
LOCATION:7/9 Rue des Petites Ecuries 75010 Paris - FR
ORGANIZER:New Morning
END:VEVENT
END:VCALENDAR
