BEGIN:VCALENDAR
VERSION:2.0
CALSCALE:GREGORIAN
METHOD:PUBLISH
BEGIN:VEVENT
SUMMARY:Comme des silences qu'on dit tout haut
DTSTART:20260429T170000Z
DTSTAMP:20260419T212305Z
CATEGORIES:
DESCRIPTION:- Les Mercredi Carte Blanche au Local des Autrices - \nComme 
 des silences qu'on dit tout haut\nMercredi 29 Avril 2026 à 19h \n \nDur
 ée1h\nÀ partir de 15 ans\nAutrice et metteuse en scène Milena Kauffmann
 \nRégisseuse Flavie Lecuyer \nCompagnie La Châtaigne \n \nÉcrire ne 
 sauve pas\, il n’est pas question d’être sauvée de toute façon\, il
  est question d’apprendre à respirer même quand on nous met la tête s
 ous l’eau. \nRésumé : Une femme et sa guitare racontent l’amnésie 
 post-traumatique\, les mots qu’on écrit sans savoir ce qu’ils veulent
  dire\, la mémoire du corps qui n’oublie rien\, la colère qu’il nous
  reste quand on perd pieds\, la violence aussi et comment on peut la trans
 former en quelque chose d’autre… Le récit d’un parcours de reconstr
 uction brut\, radical\,poétique\, de l’impact d’une rencontre\, de l
 ’amour et des demains qu’il nous reste.  Car si on apprend à vivre d
 ans le silence\, alors on peut aussi apprendre à en sortir.\nTeaser:\nhtt
 ps://youtu.be/NOFw8zwFyNE\n 
GEO:48.8697086;2.3757622
LOCATION:18 Rue de l'Orillon 75011 Paris - FR
ORGANIZER:Le Local des Autrices
END:VEVENT
END:VCALENDAR
