BEGIN:VCALENDAR
VERSION:2.0
CALSCALE:GREGORIAN
METHOD:PUBLISH
BEGIN:VEVENT
SUMMARY:Repas Vignerons
DTSTART:20260523T173000Z
DTEND:20260523T215900Z
DTSTAMP:20260424T184907Z
CATEGORIES:
DESCRIPTION:Le 23 mai 2026 de 10h à 19h\, à l’occasion du Printemps d
 u Bois et du Bal des Ardents\,  le xylolab à Épinal accueillera une jou
 rnée festive mêlant bois\, vin et convivialité.\n\nLe Printemps du Bois
  proposera ateliers\, animations et jeux autour du bois\, ouverts à tous.
 \nLe Bal des Ardents réunira une belle sélection de vigneron·nes en vin
  naturel\, accompagnés d’un brasseur et d’un distillateur lorrain : l
 ’occasion de déguster\, échanger et repartir avec quelques jolies bout
 eilles.\n\nRestauration sur place toute la journée avec Peio Cuisine Mobi
 le.\n \nÀ partir de 19h30\, place à la fête avec repas préparé par P
 eio (ouvert à tous\, sur réservation – places limitées) en compagnie
  des vignerons et du groupe Les Gapettes. \nTout au long de la soirée\, 
 Alex sera derrière les bouteilles pour vous abreuver de jolis canons (tar
 if salon).\n \nTarif Repas : 45€ \n\nentrée - plat - fromage - desser
 t \noption VG à préciser dans le formulaire \n\n \nXylolab – 3 aven
 ue Pierre Blanck - 88000 Épinal(zone de la Voivre\, en face des Archives 
 départementales)\nInfos :Alex – 06 64 81 11 60 – salon.lebaldesardent
 s@gmail.comPierre – 09 86 18 96 19
GEO:48.1988013;6.459975999999999
LOCATION:3 Avenue Pierre Blanck 88000 Épinal - FR
ORGANIZER:Peio
END:VEVENT
END:VCALENDAR
