BEGIN:VCALENDAR
VERSION:2.0
CALSCALE:GREGORIAN
METHOD:PUBLISH
BEGIN:VEVENT
SUMMARY:RECITAL JAZZ "LE ROMANTISME AU XIXEM SIECLE FAÇON JAZZY" AU CAFE 
 PHILOSOPHIE
DTSTART:20260425T230000Z
DTEND:20260426T023000Z
DTSTAMP:20260420T213641Z
CATEGORIES:
DESCRIPTION:\n	C'est le VOLUME 3 de notre série de 4 récitals consacrés
  à l'histoire de la musique classique vu et interprété par et façon Ja
 zzy. Le VOLUME 3 est entièrement consacré aux grands compositeurs romant
 iques du XIXéme siècle : Chopin - Brahms - Gounod - Schubert - Saint Sa
 ëns... C'est à la fois une nouvelle création du Café Philosophie'est d
 onc une soiréee exceptionnelle que nous vous proposons ce soir. Le TRIO I
 N NOMINE est redoutable... leurs interprétations des grandes œuvres de B
 ACH façon JAZZY  sont uniques et grandioses. C'est osé et ce que le TRI
 O en tire est absolument génial. Une soirée où PERFORMANCE & VIRTUOSITE
  sont intimement liées où les grandes œuvres de Jean Sébastien BACH\, 
 sont réinventées avec génie et sans complexe par Philippe DESPREZ au Pi
 ano\, Joël LAROCHELLE à la Contrebasse et Gerald BON aux Percussions. L'
 improvisation\, c'est la force et le talent du TRIO IN NOMINE. Quand ils j
 ouent\, on découvre que leur composition spontanée relève d’une scien
 ce de la rigueur qui n’’a rien de l’improvisation : elle est soutenu
 e par une discipline de l’instrument proche de la perfection. Leurs inst
 ruments se rencontrent en s’entrelaçant les uns avec les autres\, dans 
 des mouvements perpétuels qui nous font voyager aux confins de l’Harmon
 ie\, de la Mélodie et de la Rythmique. Ils sont brillants\, talentueux et
  généreux. Tarif : 25 € - INFOLINE : 06 90 74 11 12\n
LOCATION:Imm. Ary Encelade - ZI Jarry - Bd Houelbourg 97122 Baie Mahault -
  GP
ORGANIZER:Café Philosophie
END:VEVENT
END:VCALENDAR
