BEGIN:VCALENDAR
VERSION:2.0
CALSCALE:GREGORIAN
METHOD:PUBLISH
BEGIN:VEVENT
SUMMARY:Le CODEV de la Ressourcerie
DTSTART:20260317T110000Z
DTEND:20260317T130000Z
DTSTAMP:20260423T193139Z
CATEGORIES:
DESCRIPTION:\nLE CODEV DE LA RESSOURCERIE \n\nLe CODEV est un accélérat
 eur puissant qui t’aide à débloquer tes problématiques grâce à l’
 intelligence collective.\n\n\nQuand ? Mardi 17 mars et/ou mardi 14 avril
 – 12h à 14h\n\nTarif lancement : 20€\n\nPlaces limitées : 7 seulemen
 t\n\nSur Zoom\n\n\nPas de replay !\n\nComment ça se passe :\n\n	✔️ Pe
 tit groupe de 7 entrepreneur.es maximum\n\n	✔️ Un format structuré e
 t bienveillant : écoute\, non-jugement et confidentialité\n\n	✔️ Un
 .e participant.e expose sa problématique\, les autres contribuent avec re
 tours d’expérience\, questions puissantes\, idées et soutien\n\n	✔
 ️2 problématiques sont travaillées par session pour privilégier la pr
 ofondeur\n	 \n\nTu repars avec :\n\n✔️ Des prises de conscience et un
  nouvel angle de vue\n\n✔️ Des pistes concrètes et actionnables pour 
 avancer\n\n✔️ De nouvelles connexions avec des entrepreneur·es qui pa
 rtagent tes challenges\n\nExemples de problématiques que tu peux amener :
 \n\n• Fixer tes tarifs sans culpabiliser\n	• Procrastination sur une d
 écision importante\n	• Lancement d’une nouvelle offre\n	• Conflit a
 vec un.e client.e ou partenaire\n	• Syndrome de l'imposteur\n	• Diffic
 ultés à communiquer\n	• Chiffre d’affaires stagnant\n	• Perte de c
 larté ou de motivation\n\nTu peux venir avec une difficulté stratégique
 \, relationnelle\, émotionnelle ou organisationnelle.\n\n	✨ Le CODEV re
 pose sur l’effet miroir : en travaillant sur le cas d’un.e autre\, tu 
 avances aussi sur le tien. Paradoxalement\, c’est souvent quand tu n’e
 s pas “au centre” que tu as les plus grands déclics.\n\nLe mieux ? L
 ’expérimenter !\n\nInstagram : @laressourceriedesentrepreneurs\n\nconta
 ct@laressourceriedesentrepreneurs.fr\n
LOCATION:   - FR
ORGANIZER:La Ressourcerie
END:VEVENT
END:VCALENDAR
