BEGIN:VCALENDAR
VERSION:2.0
CALSCALE:GREGORIAN
METHOD:PUBLISH
BEGIN:VEVENT
SUMMARY:Visite de l'atelier de fabrication La Trinitaine
DTSTART:20260401T073000Z
DTEND:20260731T090000Z
DTSTAMP:20260422T121933Z
CATEGORIES:
DESCRIPTION:
GEO:47.6028613;-2.9931354
LOCATION:Kerluesse  Saint-Philibert - FR
ORGANIZER:LA TRINITAINE DISTRIBUTION
END:VEVENT
END:VCALENDAR
