BEGIN:VCALENDAR
VERSION:2.0
CALSCALE:GREGORIAN
METHOD:PUBLISH
BEGIN:VEVENT
SUMMARY:Protège ta mer : opération de ramassage de déchets le 12 avril 
 2026 à Pornichet
DTSTART:20260413T133000Z
DTEND:20260413T133000Z
DTSTAMP:20260420T133252Z
CATEGORIES:
DESCRIPTION:Participez à l’opération « Protège ta mer » à Porniche
 t !\n \nPresse Océan et Surfrider Foundation vous invitent à participer
  à une grande opération de ramassage des déchets sur la plage des Libra
 ires à Pornichet\, le dimanche 12 avril de 9h à 12h.\nLe temps d’une m
 atinée conviviale et engagée\, venez agir concrètement pour la protecti
 on de l’océan. Que vous soyez seul(e)\, entre amis ou en famille\, chac
 un peut contribuer à préserver ce lieu emblématique du littoral.\nLa pa
 rticipation est gratuite\, sur inscription et le matériel est fourni par 
 Surfrider. Rejoignez-nous et prenez part à cette action utile et porteuse
  de sens !
GEO:47.2643683;-2.3452116
LOCATION:11 Boulevard des Océanides 44380 Pornichet - FR
ORGANIZER:OUEST-FRANCE
END:VEVENT
END:VCALENDAR
