BEGIN:VCALENDAR
VERSION:2.0
CALSCALE:GREGORIAN
METHOD:PUBLISH
BEGIN:VEVENT
SUMMARY:Inventaire des nids d'hirondelles et martinets à Nantes
DTSTART:20260602T173000Z
DTEND:20260703T173000Z
DTSTAMP:20260422T141244Z
CATEGORIES:
DESCRIPTION:Inventaire des nids d'hirondelles et martinets à Nantes\nOuvr
 ez l’œil\, levez la tête !\nTous les mardis et vendredis du mois de j
 uin de 19h30 à 21h (+ 03 juillet)\, venez participer au comptage des nids
  d'hirondelles et martinets dans votre quartier\, à Nantes !\nEn partenar
 iat avec la Ligue de protection des oiseaux (LPO).\n20 personnes maximum p
 ar séance\n \n10 dates pour 10 quartiers de Nantes :\nMardi 02 juin – 
 Centre-ville - Château des ducs de Bretagne\nVendredi 05 juin – Quartie
 r ile de Nantes\nMardi 09 juin – Quartier Saint-Félix\nVendredi 12 juin
  – Quartier La Jonelière \nMardi 16 juin - Quartier Saint-Joseph de Po
 rterie\nVendredi 19 juin – Quartier Bellevue\nMardi 23 juin – Quartier
  de la Halvèque \nVendredi 26 juin – Quartier Nantes Sud \nMardi 30 j
 uin – Quartier Doulon\nVendredi 03 juillet – Quartier Chantenay \n \
 nPlus d'informations\, sur l'Observatoire de la Biodiversité Métropolita
 ine !
LOCATION:  
ORGANIZER:Direction Nature et Jardins
END:VEVENT
END:VCALENDAR
