BEGIN:VCALENDAR
VERSION:2.0
CALSCALE:GREGORIAN
METHOD:PUBLISH
BEGIN:VEVENT
SUMMARY:Week-end ressourcement Seonmudo
DTSTART:20260828T110000Z
DTEND:20260830T143000Z
DTSTAMP:20260419T130817Z
CATEGORIES:
DESCRIPTION:Offrez-vous une parenthèse zen et tonifiante a la fois au cœ
 ur des montagnes\, face au lac et à la nature préservée\nDu vendredi 2
 8 au dimanche 30 août\, venez découvrir ou approfondir la pratique du S
 eonmudo\, art méditatif coréen alliant respiration\, mouvement et recent
 rage intérieur.\nUn week-end pour :\n• Relâcher les tensions\n• Retr
 ouver énergie et clarté\n• Harmoniser corps et esprit\n• Vous connec
 ter à l’essentiel\nHébergement complet inclus\nCadre naturel exception
 nel\n‍ Accessible à tous niveaux\nInfos & réservations :\nfredsonmudo@
 gmail.com\n+33 6 20 63 20 68\nLes places sont limitées – pensez à rés
 erver\n#Seonmudo #Ressourcement #Loudenvielle #RetraiteBienEtre #Meditatio
 nEnMouvement #WeekEndZen #Pyrenees\nOù \nLoudenvielle est un véritable 
 joyau des Pyrénées\, niché au cœur de la vallée du Louron.\nQuand?\nD
 u vendredi 28 au 30 août 2026
LOCATION:Chalet de marinette  24 chemin de clarabide. 65510 Loudenvielle 6
 5510 Loudenvielle - FR
ORGANIZER:FFOUBERT coaching
END:VEVENT
END:VCALENDAR
