BEGIN:VCALENDAR
VERSION:2.0
CALSCALE:GREGORIAN
METHOD:PUBLISH
BEGIN:VEVENT
SUMMARY:Millénaire de l'église de St Germain d'Auros en Gironde
DTSTART:20260503T103000Z
DTSTAMP:20260423T085336Z
CATEGORIES:
DESCRIPTION:L'église de Saint Germain\, à Auros en Gironde\, est datée 
 du XIe sièle. Elle a été sauvée de la ruine par l'association et rendu
 e au culte.\nA l'occasion de son millénaire\, nous invitons tous ceux qui
  sont attachés à notre patrimoine architectural et religieux à se joind
 re aux céremonies et rejouissances de ce symbole de renaissance et d'enra
 cinement.\nSamedi 2 Mai 16 h : Exposition du Saint Sacrement et Te Deum su
 ivi d'une reception des autorités\nDimanche 3 Mai : 10h Grand messe  12h
 30 Banquet médieval au Chateau du Mirail à Brouqueyran\, spectacle de Be
 hourd à 14h30 et Kermesse
LOCATION:  
ORGANIZER:ASSOCIATION SAINT GERMAIN
END:VEVENT
END:VCALENDAR
