BEGIN:VCALENDAR
VERSION:2.0
CALSCALE:GREGORIAN
METHOD:PUBLISH
BEGIN:VEVENT
SUMMARY:Shooting Photo OFFERT chez JMT Brie-Comte-Robert !
DTSTART:20260411T080000Z
DTEND:20260411T162000Z
DTSTAMP:20260421T033750Z
CATEGORIES:
DESCRIPTION:Séance PHOTO OFFERTE dans votre magasin avec un photographe a
 nimalier professionnel\, le 11 AVRIL 2026 ! \nUne photo offerte 10x15  
 sans obligation d'achat. \nChoisissez seulement les photos que vous souha
 itez ! Places limitées\, prenez vite la vôtre ! (Un créneau + 1 photo
  offerte par foyer)  
GEO:48.7022121;2.6024107
LOCATION: 77170 Brie-Comte-Robert - FR
ORGANIZER:LAGACHE PHOTOGRAPHIE
END:VEVENT
END:VCALENDAR
