BEGIN:VCALENDAR
VERSION:2.0
CALSCALE:GREGORIAN
METHOD:PUBLISH
BEGIN:VEVENT
SUMMARY:Shooting Photo OFFERT chez Pontault-Combault !
DTSTART:20260425T082000Z
DTEND:20260425T160000Z
DTSTAMP:20260421T033819Z
CATEGORIES:
DESCRIPTION:Séance PHOTO OFFERTE dans votre magasin avec un photographe a
 nimalier professionnel\, le 25 avril 2026 ! \nUne photo offerte 10x15  
 sans obligation d'achat. \nChoisissez seulement les photos que vous souha
 itez ! Places limitées\, prenez vite la vôtre ! (Un créneau + 1 photo
  offerte par foyer)  
GEO:48.778028;2.60813
LOCATION:49 Rue de Monthéty 77340 Pontault-Combault - FR
ORGANIZER:LAGACHE PHOTOGRAPHIE
END:VEVENT
END:VCALENDAR
