BEGIN:VCALENDAR
VERSION:2.0
CALSCALE:GREGORIAN
METHOD:PUBLISH
BEGIN:VEVENT
SUMMARY:Dégustations littéraires : Olivia Elkaim
DTSTART:20260423T173000Z
DTEND:20260423T193000Z
DTSTAMP:20260419T125656Z
CATEGORIES:
DESCRIPTION:\n	Les Médiathèques vous convient à une soirée exceptionne
 lle avec Olivia Elkaim.\n\n	 \n\n\n\nLa disparition des choses\, aux éd
 itions Stock\, 2026\n		Novembre 1941\, gare de Lyon\, à Paris. Cécile la
 isse partir son fils de cinq ans dans un convoi de la Croix-Rouge. Pourquo
 i décide-t-elle de l’envoyer en zone libre si tôt\, si vite ? Qui peut
  lui apporter la garantie qu’elle retrouvera son enfant après la guerre
  ? Le reverra-t-elle un jour ?\n\n		Ce petit garçon s’appelle Georges P
 erec. Sa mère\, juive polonaise\, veuve d’un soldat mort au combat\, re
 nonce à le garder à ses côtés à Belleville\, quartier pauvre et insal
 ubre\, yiddishland où survivent les immigrés d’Europe centrale. Elle l
 e laisse partir pour le sauver. Mais en le privant de sa présence aimante
 \, elle le condamne\, sans le savoir\, au vide et à l’absence de souven
 irs. En 1943\, Cyrla Szulewicz\, dite « Cécile »\, est déportée à Au
 schwitz. Son fils ne la retrouvera jamais. La disparition de sa mère irri
 guera secrètement toute son œuvre à venir.\n\n		Dans ce roman intense\,
  Olivia Elkaim fait revivre Georges Perec\, l’auteur culte des Choses et
  de La vie Mode d’emploi\, membre éminent de l’Ouvroir de littératur
 e potentielle (l’Oulipo)\, mort précocement en 1982 et adulé dans le m
 onde entier — il ne cesse de gagner de nouveaux lecteurs fascinés par l
 ’amplitude de son œuvre. Elle redonne également vie à Cécile\, sa m
 ère\, dont il reste pourtant peu de traces.\n		\n			 \n\nOlivia Elkaim e
 st l’auteure de plusieurs romans publiés aux éditions Stock\, notammen
 t Je suis Jeanne Hébuterne (2017)\, Le Tailleur de Relizane (2020) et Fi
 lle de Tunis (2023).\n\n			 \n\n\n\n	Rencontre animée par Véronique Mor
 el-Muraour\, enseignante en classes préparatoires au lycée Montaigne. Le
 cture d'extraits et vente-dédicace par la librairie Nouveau Chapitre. Dé
 gustation de vins proposée par Fleur de vigne.\n
LOCATION:Place de la République 33160 Saint-Médard-en-Jalles - FR
ORGANIZER:Ville de Saint-Médard-en-Jalles
END:VEVENT
END:VCALENDAR
