BEGIN:VCALENDAR
VERSION:2.0
CALSCALE:GREGORIAN
METHOD:PUBLISH
BEGIN:VEVENT
SUMMARY:Piacere x Totem Vernier Le Môll
DTSTART:20260425T160000Z
DTEND:20260425T215900Z
DTSTAMP:20260420T210238Z
CATEGORIES:
DESCRIPTION:PIACERE Social Club x Totem Vernier Le Môll\nLe samedi 25 avr
 il prochain\, on organise une soirée à Totem Vernier Le Môll pour une s
 oirée qui mélange sport\, musique et rencontres.\nOn commence dès 18h :
  tu arrives quand tu veux\, tu restes le temps que tu veux.\nÀ partir de 
 20h\, la salle est entièrement réservée à la soirée Piacere : seules 
 les personnes inscrites pourront rester pour danser\, grimper et boire des
  verres jusqu'à minuit !\nLe billet comprend l'entrée et la location des
  chaussons si tu as envie de grimper (mais sans obligation).\nDe la musiqu
 e passera toute la soirée et le bar sera ouvert pour nous avec un cocktai
 l signature créé spécialement pour l’événement :)\nEt surtout\, rie
 n n’est obligatoire : tu peux venir pour grimper\, boire un verre\, dans
 er\, ou pour les trois!\nPas besoin d’être un pro de l’escalade ou ex
 traverti : c'est avant tout une soirée sympa\, ouverte\, conviviale et ou
 verte à tous\, même si tu ne connais personne\nDans la limite des stocks
  disponibles!\n18 ans minimum 
GEO:46.2194262;6.1026756
LOCATION:67 Avenue de l'Etang 1219 Vernier - CH
ORGANIZER:Piacere Social Club
END:VEVENT
END:VCALENDAR
