BEGIN:VCALENDAR
VERSION:2.0
CALSCALE:GREGORIAN
METHOD:PUBLISH
BEGIN:VEVENT
SUMMARY:5° Coloquio Internacional del TyA  
DTSTART:20260427T120000Z
DTEND:20260427T160000Z
DTSTAMP:20260423T150123Z
CATEGORIES:
DESCRIPTION:\n5° Coloquio Internacional del TyA - Red del Campo freudiano
 \n\nLo Sexual y la Droga\n\n	Lunes 27 de abril 2026 - 14:00 a 18:00 (Paris
 ) en videoconferencia\n
LOCATION:   - FR
ORGANIZER:Association de la Fondation du Champ freudien
END:VEVENT
END:VCALENDAR
