BEGIN:VCALENDAR
VERSION:2.0
CALSCALE:GREGORIAN
METHOD:PUBLISH
BEGIN:VEVENT
SUMMARY:L’argent immobilier au Ban-Saint-Martin
DTSTART:20260523T183000Z
DTSTAMP:20260422T165114Z
CATEGORIES:
DESCRIPTION:Après quelques galères personnelles dans le domaine\, il a d
 écidé de partir en immersion dans une agence immobilière et dans une é
 tude notariale. \nAgent ou mandataire ? Mariage ou emprunt ? Crémaillère
  ou crémation ? Julien répondra à toutes ces questions. \nVenez à ce s
 pectacle\, il est possible que vous repartiez avec les clés de la salle !
GEO:49.1220595;6.1515789
LOCATION:3 Avenue Henri II 57050 Le Ban-Saint-Martin - FR
ORGANIZER:Association JUST
END:VEVENT
END:VCALENDAR
