BEGIN:VCALENDAR
VERSION:2.0
CALSCALE:GREGORIAN
METHOD:PUBLISH
BEGIN:VEVENT
SUMMARY:SETH / TOWARD THE THRONE / KYMRIS
DTSTART:20260425T183000Z
DTEND:20260425T230000Z
DTSTAMP:20260421T004641Z
CATEGORIES:
DESCRIPTION:
LOCATION:1 AVENUE GAMBETTA 25200 MONTBELIARD - FR
ORGANIZER:Ultimatome
END:VEVENT
END:VCALENDAR
