BEGIN:VCALENDAR
VERSION:2.0
CALSCALE:GREGORIAN
METHOD:PUBLISH
BEGIN:VEVENT
SUMMARY:Petit-déjeuner de networking\, mercredi 22 avril
DTSTART:20260422T063000Z
DTEND:20260422T080000Z
DTSTAMP:20260420T152844Z
CATEGORIES:
DESCRIPTION:\n\n\n\n\n\n\n\n\n\n\n\n\n\n\n\nCe petit-déjeuner sera animé
  par notre membre\, Karine Beinisch. \n\n																 \n\nCongrès 
 Maillot\n\n80\, avenue de la Grande Armée 75017 Paris\n\n																
  \n\nParticipation :\n\n																 \n\n•      Membres : 
 25 € TTC\n\n																 \n\n•      Découverte :  30 €
  TTC Limitée aux 5 premiers inscrits et valable une seule fois\n\n							
 									 \n\n1 boisson chaude\, 1 viennoiserie\, 2 toasts ou tartines\, 
 Yaourt & Céréales\,\n\nSalade de fruits frais\, 1 jus d'orange pressé 2
 0 cl ou pamplemousse pressé 20 cl\n\n																 \n\nCe petit-déje
 uner sera animé par notre membre\, Karine Beinisch. \n\n																
  \n\nInscription obligatoire\n\n																 \n\n\n\n\n\n\n\n\n\n\n\
 n\n\n\n\n\n\n\n\n\n\n\n\n\n\n\n\n\n\n\n\n\n\n\n\n\n\n\n\n\n\n\n\n\n\n\n\n\
 n\n\n\n\n																																																																	
 		 \n\n\n\n\n\n\n\n\n\n\n\n\n\n\n\n\n\n\n\n\n\n\n\n\n\n\n\n\n												
 																												 \n\n\n\n\n\n\n\n\n\n\n\n\n\n\n\n\n\n\n\n\n\n
 \n\n\n\n\n\n\n\n\n\n\n\n\n\n\n\n\n\n\n	 \n
LOCATION:80\, avenue de la Grande Armée 75017 Paris - FR
ORGANIZER:Club Edouard VII
END:VEVENT
END:VCALENDAR
