BEGIN:VCALENDAR
VERSION:2.0
CALSCALE:GREGORIAN
METHOD:PUBLISH
BEGIN:VEVENT
SUMMARY:CONGRES UNEA 2026
DTSTART:20260609T140000Z
DTEND:20260611T120000Z
DTSTAMP:20260420T045836Z
CATEGORIES:
DESCRIPTION:\nAdapter et renforcer son modèle économique et financier\n\
 nPlacée sous la thématique "Consolider nos modèles pour conjuguer perfo
 rmance économique et impact social"\, cette nouvelle édition du Congrès
  ambitionne d'apporter à la fois de la perspective\, des outils concrets 
 et des espaces de dialogue et de réseau.\n\nChaque Entreprise Adaptée ad
 hérente à l'UNEA bénéficie d'une entrée gratuite à l'événement qui
  comprend la participation au congrès\, le diner qui suivra l'Assemblée 
 Générale du 9/06/2026 (inscription obligatoire via le formulaire ci-dess
 ous afin de comptabiliser le nombre de convives) et le dejeuner du 10/06/2
 026.  \n\n	 \n
LOCATION:Allée du Président Menut 50100 Cherbourg - FR
ORGANIZER:Union Nationale des Entreprises Adaptées - UNEA
END:VEVENT
END:VCALENDAR
