BEGIN:VCALENDAR
VERSION:2.0
CALSCALE:GREGORIAN
METHOD:PUBLISH
BEGIN:VEVENT
SUMMARY:Immersion Yoga Rebozo - À l'écoute du corps - 13 juin 2026
DTSTART:20260613T120000Z
DTEND:20260613T160000Z
DTSTAMP:20260423T060520Z
CATEGORIES:
DESCRIPTION:
GEO:48.9267318;2.2691149
LOCATION:Rue des Sazières 92700 Colombes - FR
ORGANIZER:Immanence
END:VEVENT
END:VCALENDAR
