BEGIN:VCALENDAR
VERSION:2.0
CALSCALE:GREGORIAN
METHOD:PUBLISH
BEGIN:VEVENT
SUMMARY:Faut-il tuer le clown ?
DTSTART:20260522T181500Z
DTEND:20260606T181500Z
DTSTAMP:20260420T042138Z
CATEGORIES:
DESCRIPTION:Désabusé\, cynique et malicieux\, Ferdinand Bracoulier\, anc
 ien clown autrefois très célèbre\, vit en ermite dans sa propriété no
 rmande. Pour une raison qu'il garde secrète\, il a soigneusement organis
 é son suicide et a recruté un tueur à gages. Ce soi-disant professionne
 l du crime se révélera n'être qu'un jeune homme totalement inexpérimen
 té\, de surcroît\, fan inconditionnel de sa victime... Débarquent alors
  la fille de Ferdinand et son fiancé. Elle est juge\, lui\, capitaine de 
 police... Une comédie policière qui nous entraîne dans une série de re
 bondissements et de quiproquos! 
LOCATION:Avenue du Haras\, 100 1150 Woluwe-Saint-Pierre - BE
ORGANIZER:Les Copains d'abord
END:VEVENT
END:VCALENDAR
