BEGIN:VCALENDAR
VERSION:2.0
CALSCALE:GREGORIAN
METHOD:PUBLISH
BEGIN:VEVENT
SUMMARY:NOW! NollywoodWeek Film Festival 2026 PASS FESTIVAL
DTSTART:20260506T160000Z
DTEND:20260510T215900Z
DTSTAMP:20260423T191352Z
CATEGORIES:
DESCRIPTION:
GEO:48.85114950000001;2.330526400000001
LOCATION:76 Rue de Rennes 75006 Paris - FR
ORGANIZER:Okada Media
END:VEVENT
END:VCALENDAR
