BEGIN:VCALENDAR
VERSION:2.0
CALSCALE:GREGORIAN
METHOD:PUBLISH
BEGIN:VEVENT
SUMMARY:Le marché du printemps - Montredon
DTSTART:20260411T080000Z
DTEND:20260411T120000Z
DTSTAMP:20260424T055618Z
CATEGORIES:
DESCRIPTION:
GEO:43.2353301;5.366315999999999
LOCATION:35 Traverse de Carthage 13008 Marseille - FR
ORGANIZER:La Vie à Montredon
END:VEVENT
END:VCALENDAR
