BEGIN:VCALENDAR
VERSION:2.0
CALSCALE:GREGORIAN
METHOD:PUBLISH
BEGIN:VEVENT
SUMMARY:Ma pizza de A à Z — J’ai mis la main à la pâte ! - FEREL
DTSTART:20260527T073000Z
DTEND:20260527T113000Z
DTSTAMP:20260423T085327Z
CATEGORIES:
DESCRIPTION: \nUn atelier convivial et gourmand pour apprendre à faire s
 a pizza maison de A à Z !Les participants réaliseront eux-mêmes leur p
 âte et composeront leur garniture à base de produits frais. Chaque pizza
  sera ensuite cuite dans un véritable four à pain\, pour une expérience
  authentique et une dégustation pleine de saveurs.Un espace « bonnes adr
 esses » sera également proposé pour échanger des idées\, partager des
  contacts de producteurs locaux\, épiceries de qualité et astuces gourma
 ndes.
GEO:47.3528334;-2.1797242
LOCATION:3 La Croix du Guernet 56130 FEREL - FR
ORGANIZER:PARC NATUREL REGIONAL DE BRIERE
END:VEVENT
END:VCALENDAR
